BEGIN:VCALENDAR
VERSION:2.0
TZ:+2
PRODID:-//static2dynamic//events 5.939//EN
CALSCALE:GREGORIAN
BEGIN:VEVENT
UID:d5571c6694ac10d5567a2cd392311f47
DTSTART:20261105T081500
DTEND:20261105T163000
SUMMARY:SÃ©minaire de formation continue pour les coordinatrices et coord
 inateurs de sÃ©curitÃ©
LOCATION:HÃ´tel l'AQUATIS\, Route de Berne 148\, 1010 Lausanne
DESCRIPTION:[b]Objectif[/b]\n\nPermettre aux participantÂ·eÂ·s de renforc
 er leur maÃ®trise de la gestion des accidents\, incidents et presquâ€™acc
 idents\, dâ€™amÃ©liorer la prÃ©vention des risques professionnels\, et de
  mieux comprendre les enjeux Ã©mergents en santÃ© au travail (PFAS) afin 
 dâ€™adapter leurs pratiques au sein de leur entreprise.\n\n -  Appliquer 
 une mÃ©thodologie structurÃ©e dâ€™analyse dâ€™accident.\n -  Identifier l
 es situations de travail isolÃ© au sein de leur entreprise et planifier d
 es mesures organisationnelles et techniques.\n -  RÃ©aliser un relevÃ© dâ
 €™accident ou dâ€™incident dans lâ€™outil Safely.\n -  Comprendre ce que 
 sont les PFAS et leurs impacts potentiels sur la santÃ© : enjeux en santÃ
 © au travail et enjeux pour les entreprs.\n\n[b]Inteants[/b]\n[i]Sabine M
 ann\, Dr Ã¨s sc.\, hygiÃ©niste du travail SSHT[/i]\n[i]Pierre Messerli\, 
 specialiste HSE Ã  Auxyme SÃ rl[/i]\n\n[b]Prix[/b]\nPrix selon le program
 me\, TVA non comprise\n\n[b][link url="https://www.eco-swiss.ch/download.
 php?cat=6JLvL2DYoAPKasSNvUf3Dw%3D%3D&id=1209" target="_blank"]Programme[/
 link][/b]
URL;VALUE=URI:https://www.eco-swiss.ch/index-fr.php?frameset=2&page=268
SEQUENCE:0
END:VEVENT
END:VCALENDAR
